BEGIN:VCALENDAR
VERSION:2.0
PRODID:-//Wisconsin Center District - ECPv6.15.15//NONSGML v1.0//EN
CALSCALE:GREGORIAN
METHOD:PUBLISH
X-ORIGINAL-URL:https://wcd.org
X-WR-CALDESC:Events for Wisconsin Center District
REFRESH-INTERVAL;VALUE=DURATION:PT1H
X-Robots-Tag:noindex
X-PUBLISHED-TTL:PT1H
BEGIN:VTIMEZONE
TZID:America/Chicago
BEGIN:DAYLIGHT
TZOFFSETFROM:-0600
TZOFFSETTO:-0500
TZNAME:CDT
DTSTART:20250309T080000
END:DAYLIGHT
BEGIN:STANDARD
TZOFFSETFROM:-0500
TZOFFSETTO:-0600
TZNAME:CST
DTSTART:20251102T070000
END:STANDARD
BEGIN:DAYLIGHT
TZOFFSETFROM:-0600
TZOFFSETTO:-0500
TZNAME:CDT
DTSTART:20260308T080000
END:DAYLIGHT
BEGIN:STANDARD
TZOFFSETFROM:-0500
TZOFFSETTO:-0600
TZNAME:CST
DTSTART:20261101T070000
END:STANDARD
BEGIN:DAYLIGHT
TZOFFSETFROM:-0600
TZOFFSETTO:-0500
TZNAME:CDT
DTSTART:20270314T080000
END:DAYLIGHT
BEGIN:STANDARD
TZOFFSETFROM:-0500
TZOFFSETTO:-0600
TZNAME:CST
DTSTART:20271107T070000
END:STANDARD
END:VTIMEZONE
BEGIN:VEVENT
DTSTART;TZID=America/Chicago:20260424T200000
DTEND;TZID=America/Chicago:20260424T200000
DTSTAMP:20260421T025017
CREATED:20260126T204011Z
LAST-MODIFIED:20260421T072032Z
UID:10004754-1777060800-1777060800@wcd.org
SUMMARY:Ethel Cain – The Willoughby Tucker Forever Tour
DESCRIPTION:
URL:https://wcd.org/event/ethel-cain-the-willoughby-tucker-forever-tour/
LOCATION:Miller High Life Theatre
ATTACH;FMTTYPE=image/png:https://wcd.org/wp-content/uploads/2026/01/2026.04.24-M-Ethel-Cain1400x1000-Venue-Website-IMAGE-ONLY-gTICdI.png
END:VEVENT
BEGIN:VEVENT
DTSTART;TZID=America/Chicago:20260425T200000
DTEND;TZID=America/Chicago:20260425T200000
DTSTAMP:20260421T025017
CREATED:20260126T204013Z
LAST-MODIFIED:20260421T072033Z
UID:10004755-1777147200-1777147200@wcd.org
SUMMARY:The Rock Orchestra by Candlelight
DESCRIPTION:
URL:https://wcd.org/event/the-rock-orchestra-by-candlelight/
LOCATION:Miller High Life Theatre
ATTACH;FMTTYPE=image/jpeg:https://wcd.org/wp-content/uploads/2026/01/2026.04.25-M-The-Rock-Orchestra-1400x1000-2-68uBRn.jpg
END:VEVENT
BEGIN:VEVENT
DTSTART;VALUE=DATE:20260501
DTEND;VALUE=DATE:20260503
DTSTAMP:20260421T025017
CREATED:20260403T164823Z
LAST-MODIFIED:20260421T072034Z
UID:10004796-1777593600-1777766399@wcd.org
SUMMARY:2026 Midwest Harmony Region 3 Convention
DESCRIPTION:Midwest Harmony Region 3 is one of over 20 regions of Sweet Adelines International worldwide\, made up of parts of Illinois\, Indiana and Wisconsin\, spanning an area from South Bend\, IN in the east to Madison\, WI in the west and all the way down to Peoria\, IL . Midwest Harmony currently has over 700 members in 18 choruses and over 30 registered quartets.
URL:https://wcd.org/event/2026-midwest-harmony-region-3-convention/
LOCATION:Miller High Life Theatre
ATTACH;FMTTYPE=image/png:https://wcd.org/wp-content/uploads/2026/04/WCD_R3_1400x1000-C6p1wK.png
END:VEVENT
BEGIN:VEVENT
DTSTART;TZID=America/Chicago:20260503T200000
DTEND;TZID=America/Chicago:20260503T200000
DTSTAMP:20260421T025017
CREATED:20260210T134613Z
LAST-MODIFIED:20260421T072035Z
UID:10004772-1777838400-1777838400@wcd.org
SUMMARY:An Evening with David Byrne – Who is the Sky Tour
DESCRIPTION:
URL:https://wcd.org/event/an-evening-with-david-byrne-who-is-the-sky-tour/
LOCATION:Miller High Life Theatre
ATTACH;FMTTYPE=image/png:https://wcd.org/wp-content/uploads/2026/02/2026.05.03-M-David-Byrne1400x1000-Venue-Website-IMAGE-ONLY-DEgiRp.png
END:VEVENT
BEGIN:VEVENT
DTSTART;TZID=America/Chicago:20260510T140000
DTEND;TZID=America/Chicago:20260510T140000
DTSTAMP:20260421T025017
CREATED:20260210T134617Z
LAST-MODIFIED:20260421T072035Z
UID:10004773-1778421600-1778421600@wcd.org
SUMMARY:Sesame Street Live! Elmo’s Got the Moves
DESCRIPTION:
URL:https://wcd.org/event/sesame-street-live-elmos-got-the-moves/
LOCATION:Miller High Life Theatre
ATTACH;FMTTYPE=image/png:https://wcd.org/wp-content/uploads/2026/02/2026.05.10-M-Sesame-Street-Live1400x1000-Venue-Website-IMAGE-ONLY-JIAmCq.png
END:VEVENT
BEGIN:VEVENT
DTSTART;VALUE=DATE:20260512
DTEND;VALUE=DATE:20260513
DTSTAMP:20260421T025017
CREATED:20260403T164826Z
LAST-MODIFIED:20260421T072039Z
UID:10004797-1778544000-1778630399@wcd.org
SUMMARY:Creative Planning Regional Meeting
DESCRIPTION:This is a customer/prospect event. Creative Planning does comprehensive wealth management\, investment management\, strategic tax planning\, estate planning & trusts\, financial planning\, retirement planning\, insurance\, business owner services\, retirement services and investment advisory & OCIO services.
URL:https://wcd.org/event/creative-planning-regional-meeting/
LOCATION:Miller High Life Theatre
ATTACH;FMTTYPE=image/jpeg:https://wcd.org/wp-content/uploads/2026/04/CONNECT26-Milwaukee-1400x1000-1-zdEa1j.jpg
END:VEVENT
BEGIN:VEVENT
DTSTART;TZID=America/Chicago:20260514T200000
DTEND;TZID=America/Chicago:20260514T200000
DTSTAMP:20260421T025017
CREATED:20260403T164829Z
LAST-MODIFIED:20260421T072040Z
UID:10004798-1778788800-1778788800@wcd.org
SUMMARY:Triumph: The Rock & Roll Machine Reloaded Tour
DESCRIPTION:
URL:https://wcd.org/event/triumph-the-rock-roll-machine-reloaded-tour/
LOCATION:Miller High Life Theatre
ATTACH;FMTTYPE=image/png:https://wcd.org/wp-content/uploads/2026/04/2025.05.14-M-Triumph1400x1000-Venue-Website-IMAGE-ONLY-Vxpyxh.png
END:VEVENT
BEGIN:VEVENT
DTSTART;TZID=America/Chicago:20260516T140000
DTEND;TZID=America/Chicago:20260516T140000
DTSTAMP:20260421T025017
CREATED:20260403T164832Z
LAST-MODIFIED:20260421T072041Z
UID:10004799-1778940000-1778940000@wcd.org
SUMMARY:Marquette University Law School Hooding and Commencement Ceremony
DESCRIPTION:Marquette University Law School will celebrate the accomplishments of its fall 2025 and May and summer 2026 graduates. This event is by invitation only. Attendees must have a ticket to attend.
URL:https://wcd.org/event/marquette-university-law-school-hooding-and-commencement-ceremony/
LOCATION:Miller High Life Theatre
ATTACH;FMTTYPE=image/png:https://wcd.org/wp-content/uploads/2026/04/2026-HKA88a.png
END:VEVENT
BEGIN:VEVENT
DTSTART;TZID=America/Chicago:20260522T173000
DTEND;TZID=America/Chicago:20260522T173000
DTSTAMP:20260421T025017
CREATED:20260403T164834Z
LAST-MODIFIED:20260421T072041Z
UID:10004800-1779471000-1779471000@wcd.org
SUMMARY:Divine Savior Holy Angels (DSHA) High School Graduation
DESCRIPTION:Divine Savior Holy Angels High School (DSHA) is a dynamic Catholic college-preparatory educational environment composed of over 700 young women\, 100 dedicated and talented and faculty and staff\, involved and supportive families\, and an alumnae community with over 15\,000 graduates since 1892.
URL:https://wcd.org/event/divine-savior-holy-angels-dsha-high-school-graduation/
LOCATION:Miller High Life Theatre
ATTACH;FMTTYPE=image/jpeg:https://wcd.org/wp-content/uploads/2026/04/WCD_DSHA-LVfRVp.jpg
END:VEVENT
BEGIN:VEVENT
DTSTART;TZID=America/Chicago:20260524T100000
DTEND;TZID=America/Chicago:20260524T113000
DTSTAMP:20260421T025017
CREATED:20260403T164835Z
LAST-MODIFIED:20260421T072042Z
UID:10004801-1779616800-1779622200@wcd.org
SUMMARY:Marquette University High School Graduation 2026
DESCRIPTION:Marquette University High School is the premier Catholic\, Jesuit\, college-preparatory high school for young men in Wisconsin. \n  \nThere will not be tickets for the graduation and seating will be on a first-come\, first-served basis. Doors will not open until 9:15 a.m. More specific information about the graduation ceremony and the venue will be provided at a later date.
URL:https://wcd.org/event/marquette-university-high-school-graduation-2026/
LOCATION:Miller High Life Theatre
ATTACH;FMTTYPE=image/png:https://wcd.org/wp-content/uploads/2026/04/muhs-logo-1400x1000-1-O6rkvj.png
END:VEVENT
BEGIN:VEVENT
DTSTART;TZID=America/Chicago:20260612T190000
DTEND;TZID=America/Chicago:20260612T190000
DTSTAMP:20260421T025017
CREATED:20260403T164836Z
LAST-MODIFIED:20260421T072046Z
UID:10004802-1781290800-1781290800@wcd.org
SUMMARY:Morgan Jay
DESCRIPTION:
URL:https://wcd.org/event/morgan-jay/
LOCATION:Miller High Life Theatre
ATTACH;FMTTYPE=image/png:https://wcd.org/wp-content/uploads/2026/04/2026.06.12-M-Morgan-Jay1400x1000-Venue-Website-IMAGE-ONLY-X7bQdW.png
END:VEVENT
BEGIN:VEVENT
DTSTART;TZID=America/Chicago:20260613T110000
DTEND;TZID=America/Chicago:20260613T110000
DTSTAMP:20260421T025017
CREATED:20260403T164841Z
LAST-MODIFIED:20260421T072047Z
UID:10004803-1781348400-1781348400@wcd.org
SUMMARY:Herzing University Spring Commencement and Pinning
DESCRIPTION:
URL:https://wcd.org/event/herzing-university-spring-commencement-and-pinning/
LOCATION:Miller High Life Theatre
ATTACH;FMTTYPE=image/png:https://wcd.org/wp-content/uploads/2025/07/herzing_1400x1000-ElvSNv.png
END:VEVENT
BEGIN:VEVENT
DTSTART;TZID=America/Chicago:20260711T200000
DTEND;TZID=America/Chicago:20260711T200000
DTSTAMP:20260421T025017
CREATED:20260412T000525Z
LAST-MODIFIED:20260421T072048Z
UID:10004812-1783800000-1783800000@wcd.org
SUMMARY:Death Cab for Cutie with special guest Jay Som
DESCRIPTION:
URL:https://wcd.org/event/death-cab-for-cutie-with-special-guest-jay-som/
LOCATION:Miller High Life Theatre
ATTACH;FMTTYPE=image/png:https://wcd.org/wp-content/uploads/2026/04/2026.07.11-M-Death-Cab-For-Cutie1400x1000-Venue-Website-IMAGE-ONLY-ndgsYS.png
END:VEVENT
END:VCALENDAR