BEGIN:VCALENDAR
VERSION:2.0
PRODID:-//Wisconsin Center District - ECPv6.15.15//NONSGML v1.0//EN
CALSCALE:GREGORIAN
METHOD:PUBLISH
X-WR-CALNAME:Wisconsin Center District
X-ORIGINAL-URL:https://wcd.org
X-WR-CALDESC:Events for Wisconsin Center District
REFRESH-INTERVAL;VALUE=DURATION:PT1H
X-Robots-Tag:noindex
X-PUBLISHED-TTL:PT1H
BEGIN:VTIMEZONE
TZID:America/Chicago
BEGIN:DAYLIGHT
TZOFFSETFROM:-0600
TZOFFSETTO:-0500
TZNAME:CDT
DTSTART:20250309T080000
END:DAYLIGHT
BEGIN:STANDARD
TZOFFSETFROM:-0500
TZOFFSETTO:-0600
TZNAME:CST
DTSTART:20251102T070000
END:STANDARD
BEGIN:DAYLIGHT
TZOFFSETFROM:-0600
TZOFFSETTO:-0500
TZNAME:CDT
DTSTART:20260308T080000
END:DAYLIGHT
BEGIN:STANDARD
TZOFFSETFROM:-0500
TZOFFSETTO:-0600
TZNAME:CST
DTSTART:20261101T070000
END:STANDARD
BEGIN:DAYLIGHT
TZOFFSETFROM:-0600
TZOFFSETTO:-0500
TZNAME:CDT
DTSTART:20270314T080000
END:DAYLIGHT
BEGIN:STANDARD
TZOFFSETFROM:-0500
TZOFFSETTO:-0600
TZNAME:CST
DTSTART:20271107T070000
END:STANDARD
END:VTIMEZONE
BEGIN:VEVENT
DTSTART;TZID=America/Chicago:20260425T200000
DTEND;TZID=America/Chicago:20260425T200000
DTSTAMP:20260423T165907
CREATED:20260126T204013Z
LAST-MODIFIED:20260423T203450Z
UID:10004755-1777147200-1777147200@wcd.org
SUMMARY:The Rock Orchestra by Candlelight
DESCRIPTION:
URL:https://wcd.org/event/the-rock-orchestra-by-candlelight/
LOCATION:Miller High Life Theatre
ATTACH;FMTTYPE=image/jpeg:https://wcd.org/wp-content/uploads/2026/01/2026.04.25-M-The-Rock-Orchestra-1400x1000-2-68uBRn.jpg
END:VEVENT
BEGIN:VEVENT
DTSTART;VALUE=DATE:20260425
DTEND;VALUE=DATE:20260430
DTSTAMP:20260423T165907
CREATED:20260403T180203Z
LAST-MODIFIED:20260423T202044Z
UID:10004804-1777075200-1777507199@wcd.org
SUMMARY:Foundation of Flexographic Technical Association (FFTA) 2026 Forum and INFOFLEX
DESCRIPTION:The leading package printing conference and exhibition showcasing the modern pressroom.
URL:https://wcd.org/event/foundation-of-flexographic-technical-association-ffta-2026-forum-and-infoflex/
LOCATION:Baird Center North Building – Main Entrance\, 405 W. Kilbourn Ave.
ATTACH;FMTTYPE=image/png:https://wcd.org/wp-content/uploads/2026/04/FIF-Logos3-JFogH1.png
END:VEVENT
BEGIN:VEVENT
DTSTART;TZID=America/Chicago:20260424T200000
DTEND;TZID=America/Chicago:20260424T200000
DTSTAMP:20260423T165907
CREATED:20260126T204011Z
LAST-MODIFIED:20260423T203450Z
UID:10004754-1777060800-1777060800@wcd.org
SUMMARY:Ethel Cain – The Willoughby Tucker Forever Tour
DESCRIPTION:
URL:https://wcd.org/event/ethel-cain-the-willoughby-tucker-forever-tour/
LOCATION:Miller High Life Theatre
ATTACH;FMTTYPE=image/png:https://wcd.org/wp-content/uploads/2026/01/2026.04.24-M-Ethel-Cain1400x1000-Venue-Website-IMAGE-ONLY-gTICdI.png
END:VEVENT
BEGIN:VEVENT
DTSTART;TZID=America/Chicago:20260424T173000
DTEND;TZID=America/Chicago:20260424T173000
DTSTAMP:20260423T165907
CREATED:20260407T000527Z
LAST-MODIFIED:20260423T202044Z
UID:10004808-1777051800-1777051800@wcd.org
SUMMARY:Lutheran High School Association of Greater Milwaukee (LHSAGM) Gala 2026
DESCRIPTION:Once a year\, the LHSAOGA holds a dinner auction to raise funds for their schools. It has been a great success raising money for the benefit of their students. They look forward to raising funds for scholarships and financial aid for students in need.
URL:https://wcd.org/event/lutheran-high-school-association-of-greater-milwaukee-lhsagm-gala-2026/
LOCATION:Baird Center North Building – Main Entrance\, 405 W. Kilbourn Ave.
ATTACH;FMTTYPE=image/jpeg:https://wcd.org/wp-content/uploads/2026/04/We-Teach-Truth-Gala-1400x1000-Web-Image-zqvm09.jpg
END:VEVENT
BEGIN:VEVENT
DTSTART;VALUE=DATE:20260424
DTEND;VALUE=DATE:20260427
DTSTAMP:20260423T165907
CREATED:20260403T164513Z
LAST-MODIFIED:20260423T202042Z
UID:10004785-1776988800-1777247999@wcd.org
SUMMARY:Midwest Gaming Classic
DESCRIPTION:Annual trade show open to the general public celebrating all forms of gaming\, including video games\, arcade games\, pinball\, TTRPG\, Tabletop board games\, trading and collectible card games with a focus on retro gaming.
URL:https://wcd.org/event/midwest-gaming-classic-3/
LOCATION:Baird Center South Building – Main Entrance\, 400 W. Wisconsin Ave.
ATTACH;FMTTYPE=image/png:https://wcd.org/wp-content/uploads/2026/04/BC-Midwest-Gaming-Classic-1400x1000-Web-Image-tGfClp.png
END:VEVENT
BEGIN:VEVENT
DTSTART;VALUE=DATE:20260421
DTEND;VALUE=DATE:20260424
DTSTAMP:20260423T165907
CREATED:20260403T212959Z
LAST-MODIFIED:20260421T203456Z
UID:10004807-1776729600-1776988799@wcd.org
SUMMARY:B Corp Champions Retreat
DESCRIPTION:Champions Retreat is the largest North American gathering of Certified B Corporation business leaders and values-aligned partners\, who are working together to build a more inclusive\, equitable\, and fair economic system.
URL:https://wcd.org/event/b-corp-champions-retreat/
LOCATION:Baird Center North Building – Main Entrance\, 405 W. Kilbourn Ave.
ATTACH;FMTTYPE=image/png:https://wcd.org/wp-content/uploads/2026/04/024-017-B-Lab-CR26-banner-baird-website-calendar-1400x1000-1-eceiOj.png
END:VEVENT
BEGIN:VEVENT
DTSTART;VALUE=DATE:20260421
DTEND;VALUE=DATE:20260424
DTSTAMP:20260423T165907
CREATED:20260403T203013Z
LAST-MODIFIED:20260403T203013Z
UID:10004806-1776729600-1776988799@wcd.org
SUMMARY:B Lab Champions Retreat
DESCRIPTION:Champions Retreat is the largest North American gathering of Certified B Corporation business leaders and values-aligned partners\, who are working together to build a more inclusive\, equitable\, and fair economic system.
URL:https://wcd.org/event/b-lab-champions-retreat/
LOCATION:Baird Center North Building – Main Entrance\, 405 W. Kilbourn Ave.
ATTACH;FMTTYPE=image/png:https://wcd.org/wp-content/uploads/2026/04/024-017-B-Lab-CR26-banner-baird-website-calendar-1400x1000-1-G7Ulga.png
END:VEVENT
BEGIN:VEVENT
DTSTART;VALUE=DATE:20260420
DTEND;VALUE=DATE:20260424
DTSTAMP:20260423T165907
CREATED:20260403T164510Z
LAST-MODIFIED:20260420T203449Z
UID:10004784-1776643200-1776988799@wcd.org
SUMMARY:Association for Clinical and Translational Science (ACTS) Annual Conference
DESCRIPTION:Scientific sessions and networking opportunities with leaders in translational science and clinical research.
URL:https://wcd.org/event/association-for-clinical-and-translational-science-acts-annual-conference/
LOCATION:Baird Center South Building – Main Entrance\, 400 W. Wisconsin Ave.
ATTACH;FMTTYPE=image/png:https://wcd.org/wp-content/uploads/2026/04/BC-ACTS-1400x1000-Web-Image-kYP6bN.png
END:VEVENT
END:VCALENDAR