BEGIN:VCALENDAR
VERSION:2.0
PRODID:-//Wisconsin Center District - ECPv6.15.15//NONSGML v1.0//EN
CALSCALE:GREGORIAN
METHOD:PUBLISH
X-ORIGINAL-URL:https://wcd.org
X-WR-CALDESC:Events for Wisconsin Center District
REFRESH-INTERVAL;VALUE=DURATION:PT1H
X-Robots-Tag:noindex
X-PUBLISHED-TTL:PT1H
BEGIN:VTIMEZONE
TZID:America/Chicago
BEGIN:DAYLIGHT
TZOFFSETFROM:-0600
TZOFFSETTO:-0500
TZNAME:CDT
DTSTART:20250309T080000
END:DAYLIGHT
BEGIN:STANDARD
TZOFFSETFROM:-0500
TZOFFSETTO:-0600
TZNAME:CST
DTSTART:20251102T070000
END:STANDARD
BEGIN:DAYLIGHT
TZOFFSETFROM:-0600
TZOFFSETTO:-0500
TZNAME:CDT
DTSTART:20260308T080000
END:DAYLIGHT
BEGIN:STANDARD
TZOFFSETFROM:-0500
TZOFFSETTO:-0600
TZNAME:CST
DTSTART:20261101T070000
END:STANDARD
BEGIN:DAYLIGHT
TZOFFSETFROM:-0600
TZOFFSETTO:-0500
TZNAME:CDT
DTSTART:20270314T080000
END:DAYLIGHT
BEGIN:STANDARD
TZOFFSETFROM:-0500
TZOFFSETTO:-0600
TZNAME:CST
DTSTART:20271107T070000
END:STANDARD
END:VTIMEZONE
BEGIN:VEVENT
DTSTART;VALUE=DATE:20260715
DTEND;VALUE=DATE:20260718
DTSTAMP:20260423T180920
CREATED:20260422T192002Z
LAST-MODIFIED:20260423T202055Z
UID:10004817-1784073600-1784332799@wcd.org
SUMMARY:National Association for Health Care Recruitment (NAHCR) Annual Conference
DESCRIPTION:NAHCR (National Association for Health Care Recruitment) is the preferred source for health care recruitment trends\, information\, education\, certification and resources because NAHCR helps health care recruitment professionals excel at every stage of their careers. The annual conference allows attendees to: \n-Gain the knowledge and skills needed from top \n-level speakers and industry experts \n-Consult with vendors and suppliers \n-Network with other industry professionals
URL:https://wcd.org/event/national-association-for-health-care-recruitment-nahcr-annual-conference/
LOCATION:Baird Center South Building – Main Entrance\, 400 W. Wisconsin Ave.
ATTACH;FMTTYPE=image/png:https://wcd.org/wp-content/uploads/2026/04/NACH26-1400x1000-Web-Image-v2-iqsVgK.png
END:VEVENT
END:VCALENDAR