BEGIN:VCALENDAR
VERSION:2.0
PRODID:-//Wisconsin Center District - ECPv6.15.15//NONSGML v1.0//EN
CALSCALE:GREGORIAN
METHOD:PUBLISH
X-WR-CALNAME:Wisconsin Center District
X-ORIGINAL-URL:https://wcd.org
X-WR-CALDESC:Events for Wisconsin Center District
REFRESH-INTERVAL;VALUE=DURATION:PT1H
X-Robots-Tag:noindex
X-PUBLISHED-TTL:PT1H
BEGIN:VTIMEZONE
TZID:America/Chicago
BEGIN:DAYLIGHT
TZOFFSETFROM:-0600
TZOFFSETTO:-0500
TZNAME:CDT
DTSTART:20250309T080000
END:DAYLIGHT
BEGIN:STANDARD
TZOFFSETFROM:-0500
TZOFFSETTO:-0600
TZNAME:CST
DTSTART:20251102T070000
END:STANDARD
BEGIN:DAYLIGHT
TZOFFSETFROM:-0600
TZOFFSETTO:-0500
TZNAME:CDT
DTSTART:20260308T080000
END:DAYLIGHT
BEGIN:STANDARD
TZOFFSETFROM:-0500
TZOFFSETTO:-0600
TZNAME:CST
DTSTART:20261101T070000
END:STANDARD
BEGIN:DAYLIGHT
TZOFFSETFROM:-0600
TZOFFSETTO:-0500
TZNAME:CDT
DTSTART:20270314T080000
END:DAYLIGHT
BEGIN:STANDARD
TZOFFSETFROM:-0500
TZOFFSETTO:-0600
TZNAME:CST
DTSTART:20271107T070000
END:STANDARD
END:VTIMEZONE
BEGIN:VEVENT
DTSTART;VALUE=DATE:20260512
DTEND;VALUE=DATE:20260516
DTSTAMP:20260423T122218
CREATED:20260414T033514Z
LAST-MODIFIED:20260423T172000Z
UID:10004813-1778544000-1778889599@wcd.org
SUMMARY:2026 North American Rink Conference & Expo
DESCRIPTION:The North American Rink Conference & Expo (NARCE)\, presented by the United States Ice Rink Association\, is the premier annual professional development and networking event for the ice rink and ice sport industries.
URL:https://wcd.org/event/2026-north-american-rink-conference-expo/
LOCATION:Baird Center
ATTACH;FMTTYPE=image/png:https://wcd.org/wp-content/uploads/2026/04/NARCE-2026-logo-gmc1k1.png
END:VEVENT
BEGIN:VEVENT
DTSTART;TZID=America/Chicago:20260514T190000
DTEND;TZID=America/Chicago:20260514T190000
DTSTAMP:20260423T122218
CREATED:20260403T164814Z
LAST-MODIFIED:20260423T163449Z
UID:10004792-1778785200-1778785200@wcd.org
SUMMARY:Phil Wickham with Tauren Wells and special guest Jamie MacDonald
DESCRIPTION:Join Phil Wickham with Tauren Wells and special guest Jamie MacDonald on the Song of the Saints Tour! Hitting 24 cities across the US in the Spring of 2026\, this tour will feature many of your favorite songs like This Is Our God\, House of the Lord\, and Hymn of Heaven\, as well as new songs from his newly released album\, Song of the Saints (What An Awesome God\, The King Is In The Room\, and Homesick for Heaven). Join Phil\, Tauren\, and Jamie for the Song of the Saints Tour! Get your tickets today … we can’t wait to see you there!
URL:https://wcd.org/event/phil-wickham-with-tauren-wells-and-special-guest-jamie-macdonald/
LOCATION:UW Milwaukee Panther Arena
ATTACH;FMTTYPE=image/jpeg:https://wcd.org/wp-content/uploads/2026/04/PW_SOTS_Venue-Graphics_1400x1000_Milwaukee-JrvXMf.jpg
END:VEVENT
BEGIN:VEVENT
DTSTART;TZID=America/Chicago:20260514T200000
DTEND;TZID=America/Chicago:20260514T200000
DTSTAMP:20260423T122218
CREATED:20260403T164829Z
LAST-MODIFIED:20260423T172011Z
UID:10004798-1778788800-1778788800@wcd.org
SUMMARY:Triumph: The Rock & Roll Machine Reloaded Tour
DESCRIPTION:
URL:https://wcd.org/event/triumph-the-rock-roll-machine-reloaded-tour/
LOCATION:Miller High Life Theatre
ATTACH;FMTTYPE=image/png:https://wcd.org/wp-content/uploads/2026/04/2025.05.14-M-Triumph1400x1000-Venue-Website-IMAGE-ONLY-Vxpyxh.png
END:VEVENT
END:VCALENDAR