BEGIN:VCALENDAR
VERSION:2.0
PRODID:-//Wisconsin Center District - ECPv6.15.15//NONSGML v1.0//EN
CALSCALE:GREGORIAN
METHOD:PUBLISH
X-ORIGINAL-URL:https://wcd.org
X-WR-CALDESC:Events for Wisconsin Center District
REFRESH-INTERVAL;VALUE=DURATION:PT1H
X-Robots-Tag:noindex
X-PUBLISHED-TTL:PT1H
BEGIN:VTIMEZONE
TZID:America/Chicago
BEGIN:DAYLIGHT
TZOFFSETFROM:-0600
TZOFFSETTO:-0500
TZNAME:CDT
DTSTART:20250309T080000
END:DAYLIGHT
BEGIN:STANDARD
TZOFFSETFROM:-0500
TZOFFSETTO:-0600
TZNAME:CST
DTSTART:20251102T070000
END:STANDARD
BEGIN:DAYLIGHT
TZOFFSETFROM:-0600
TZOFFSETTO:-0500
TZNAME:CDT
DTSTART:20260308T080000
END:DAYLIGHT
BEGIN:STANDARD
TZOFFSETFROM:-0500
TZOFFSETTO:-0600
TZNAME:CST
DTSTART:20261101T070000
END:STANDARD
BEGIN:DAYLIGHT
TZOFFSETFROM:-0600
TZOFFSETTO:-0500
TZNAME:CDT
DTSTART:20270314T080000
END:DAYLIGHT
BEGIN:STANDARD
TZOFFSETFROM:-0500
TZOFFSETTO:-0600
TZNAME:CST
DTSTART:20271107T070000
END:STANDARD
END:VTIMEZONE
BEGIN:VEVENT
DTSTART;TZID=America/Chicago:20260510T140000
DTEND;TZID=America/Chicago:20260510T140000
DTSTAMP:20260423T122706
CREATED:20260210T134617Z
LAST-MODIFIED:20260423T172009Z
UID:10004773-1778421600-1778421600@wcd.org
SUMMARY:Sesame Street Live! Elmo’s Got the Moves
DESCRIPTION:
URL:https://wcd.org/event/sesame-street-live-elmos-got-the-moves/
LOCATION:Miller High Life Theatre
ATTACH;FMTTYPE=image/png:https://wcd.org/wp-content/uploads/2026/02/2026.05.10-M-Sesame-Street-Live1400x1000-Venue-Website-IMAGE-ONLY-JIAmCq.png
END:VEVENT
END:VCALENDAR