BEGIN:VCALENDAR
VERSION:2.0
PRODID:-//Wisconsin Center District - ECPv6.15.15//NONSGML v1.0//EN
CALSCALE:GREGORIAN
METHOD:PUBLISH
X-ORIGINAL-URL:https://wcd.org
X-WR-CALDESC:Events for Wisconsin Center District
REFRESH-INTERVAL;VALUE=DURATION:PT1H
X-Robots-Tag:noindex
X-PUBLISHED-TTL:PT1H
BEGIN:VTIMEZONE
TZID:America/Chicago
BEGIN:DAYLIGHT
TZOFFSETFROM:-0600
TZOFFSETTO:-0500
TZNAME:CDT
DTSTART:20250309T080000
END:DAYLIGHT
BEGIN:STANDARD
TZOFFSETFROM:-0500
TZOFFSETTO:-0600
TZNAME:CST
DTSTART:20251102T070000
END:STANDARD
BEGIN:DAYLIGHT
TZOFFSETFROM:-0600
TZOFFSETTO:-0500
TZNAME:CDT
DTSTART:20260308T080000
END:DAYLIGHT
BEGIN:STANDARD
TZOFFSETFROM:-0500
TZOFFSETTO:-0600
TZNAME:CST
DTSTART:20261101T070000
END:STANDARD
BEGIN:DAYLIGHT
TZOFFSETFROM:-0600
TZOFFSETTO:-0500
TZNAME:CDT
DTSTART:20270314T080000
END:DAYLIGHT
BEGIN:STANDARD
TZOFFSETFROM:-0500
TZOFFSETTO:-0600
TZNAME:CST
DTSTART:20271107T070000
END:STANDARD
END:VTIMEZONE
BEGIN:VEVENT
DTSTART;VALUE=DATE:20260508
DTEND;VALUE=DATE:20260509
DTSTAMP:20260423T152558
CREATED:20260410T153525Z
LAST-MODIFIED:20260423T202050Z
UID:10004811-1778198400-1778284799@wcd.org
SUMMARY:Black Birth: Maternal and Infant Symposium 2026
DESCRIPTION:A transformative gathering dedicated to advancing health equity and addressing the critical disparities in Black maternal and infant health.
URL:https://wcd.org/event/black-birth-maternal-and-infant-symposium-2026/
LOCATION:Baird Center North Building – Main Entrance\, 405 W. Kilbourn Ave.
ATTACH;FMTTYPE=image/png:https://wcd.org/wp-content/uploads/2026/04/CXD-Black-Birth-F3_1400x1000-nfonZg.png
END:VEVENT
END:VCALENDAR